BEGIN:VCALENDAR
VERSION:2.0
CALSCALE:GREGORIAN
PRODID:adamgibbons/ics
METHOD:PUBLISH
X-PUBLISHED-TTL:PT1H
BEGIN:VEVENT
UID:41@event.cologne
SUMMARY:Thommy Ten & Amélie van Tass
DTSTAMP:20260420T182014Z
DTSTART:20260426T170000Z
DTEND:20260426T170000Z
DESCRIPTION:Bestuhlt
URL:https://event.cologne/event/thommy-ten-and-amelie-van-tass
GEO:50.9459;6.97042
LOCATION:Tanzbrunnen - Rheinparkweg 1\, 50679 Köln
STATUS:CONFIRMED
CATEGORIES:
X-ALT-DESC;FMTTYPE=text/html:<p>Bestuhlt</p>
BEGIN:VALARM
ACTION:DISPLAY
DESCRIPTION:Thommy Ten & Amélie van Tass
TRIGGER:-PT1H
END:VALARM
END:VEVENT
END:VCALENDAR
