BEGIN:VCALENDAR
VERSION:2.0
CALSCALE:GREGORIAN
PRODID:adamgibbons/ics
METHOD:PUBLISH
X-PUBLISHED-TTL:PT1H
BEGIN:VEVENT
UID:94@event.cologne
SUMMARY:The Music Of Queen Live – Mit Valentin Findling – Europa-Tour 2027
DTSTAMP:20260420T182356Z
DTSTART:20270501T173000Z
DTEND:20270501T173000Z
DESCRIPTION:Bestuhlt
URL:https://event.cologne/event/the-music-of-queen-live-mit-valentin-findli
	ng-europa-tour-2027
GEO:50.9459;6.97042
LOCATION:Tanzbrunnen - Rheinparkweg 1\, 50679 Köln
STATUS:CONFIRMED
CATEGORIES:
X-ALT-DESC;FMTTYPE=text/html:<p>Bestuhlt</p>
BEGIN:VALARM
ACTION:DISPLAY
DESCRIPTION:The Music Of Queen Live – Mit Valentin Findling – Europa-Tour 2
	027
TRIGGER:-PT1H
END:VALARM
END:VEVENT
END:VCALENDAR
