BEGIN:VCALENDAR
VERSION:2.0
CALSCALE:GREGORIAN
PRODID:adamgibbons/ics
METHOD:PUBLISH
X-PUBLISHED-TTL:PT1H
BEGIN:VEVENT
UID:783@event.cologne
SUMMARY:telli.nrw im Schulalltag für Schulen der Primarstufe
DTSTAMP:20260424T191812Z
DTSTART:20260608T113000Z
DTEND:20260608T130000Z
DESCRIPTION:Entdecken Sie\, wie Sie mit telli.nrw [http://telli.nrw] KI dat
	enschutzkonform\neinsetzen und Ihren Unterricht in Schulen der Primarstufe
	 aktiv\, praxisnah und\nhandlungsorientiert gestalten können.\n\n13:30 bis
	 15 Uhr\n\nDie Teilnahme ist kostenlos.
URL:https://event.cologne/event/tellinrw-im-schulalltag-fur-schulen-der-pri
	marstufe-1
LOCATION:Online-Veranstaltung - None None\, None None
STATUS:CONFIRMED
CATEGORIES:EintrittFrei
X-ALT-DESC;FMTTYPE=text/html:<p>Entdecken Sie, wie Sie mit <a target="_blan
	k" href="http://telli.nrw">telli.nrw</a> KI datenschutzkonform einsetzen u
	nd Ihren Unterricht in Schulen der Primarstufe aktiv, praxisnah und handlu
	ngsorientiert gestalten können.</p><p>13:30 bis 15 Uhr</p><p>Die Teilnahme
	 ist kostenlos.</p>
BEGIN:VALARM
ACTION:DISPLAY
DESCRIPTION:telli.nrw im Schulalltag für Schulen der Primarstufe
TRIGGER:-PT1H
END:VALARM
END:VEVENT
END:VCALENDAR
