BEGIN:VCALENDAR
VERSION:2.0
CALSCALE:GREGORIAN
PRODID:adamgibbons/ics
METHOD:PUBLISH
X-PUBLISHED-TTL:PT1H
BEGIN:VEVENT
UID:287@event.cologne
SUMMARY:Taschen professionell gestalten mit Flockfolie
DTSTAMP:20260420T181906Z
DTSTART:20260410T083000Z
DTEND:20260410T113000Z
DESCRIPTION:Innenstadt\, EintrittFrei\n\nIm Rahmen unseres Programms Maker 
	Kids in den Osterferien im Interim\nZentralbibliothek.\n\n10:30 bis 13:30 
	Uhr\n\nDie Teilnahme ist kostenlos.
URL:https://event.cologne/event/taschen-professionell-gestalten-mit-flockfo
	lie
GEO:50.9371;6.95656
LOCATION:Interim Zentralbibliothek - Hohe Straße 68-82\, 50667 Köln
STATUS:CONFIRMED
CATEGORIES:EintrittFrei,Familie,Innenstadt
X-ALT-DESC;FMTTYPE=text/html:<p><strong>Innenstadt, EintrittFrei</strong></
	p><p>Im Rahmen unseres Programms Maker Kids in den Osterferien im Interim 
	Zentralbibliothek.</p><p>10:30 bis 13:30 Uhr</p><p>Die Teilnahme ist koste
	nlos.</p>
BEGIN:VALARM
ACTION:DISPLAY
DESCRIPTION:Taschen professionell gestalten mit Flockfolie
TRIGGER:-PT1H
END:VALARM
END:VEVENT
END:VCALENDAR
