BEGIN:VCALENDAR
VERSION:2.0
CALSCALE:GREGORIAN
PRODID:adamgibbons/ics
METHOD:PUBLISH
X-PUBLISHED-TTL:PT1H
BEGIN:VEVENT
UID:266@event.cologne
SUMMARY:Tag der offenen Tür in der Kindertagespflege
DTSTAMP:20260420T182344Z
DTSTART:20260321T090000Z
DTEND:20260321T120000Z
DESCRIPTION:Die Kindertagespflege öffnet ihre Pforten für interessierte Elt
	ern.\n\n10 bis 13 Uhr\n\nDer Eintritt ist frei.
URL:https://event.cologne/event/tag-der-offenen-tur-in-der-kindertagespfleg
	e
LOCATION:Verschiedene Veranstaltungsorte in - \,  Köln
STATUS:CONFIRMED
CATEGORIES:Familie
X-ALT-DESC;FMTTYPE=text/html:<p>Die Kindertagespflege öffnet ihre Pforten f
	ür interessierte Eltern.</p><p>10 bis 13 Uhr</p><p>Der Eintritt ist frei.<
	/p>
BEGIN:VALARM
ACTION:DISPLAY
DESCRIPTION:Tag der offenen Tür in der Kindertagespflege
TRIGGER:-PT1H
END:VALARM
END:VEVENT
END:VCALENDAR
