BEGIN:VCALENDAR
VERSION:2.0
CALSCALE:GREGORIAN
PRODID:adamgibbons/ics
METHOD:PUBLISH
X-PUBLISHED-TTL:PT1H
BEGIN:VEVENT
UID:170@event.cologne
SUMMARY:Szenische Lesung mit Musik: Kommt nach Den Haag! Wir fordern Friede
	n! 110 Jahre Frauenkongress – und heute?
DTSTAMP:20260420T182354Z
DTSTART:20260318T170000Z
DTEND:20260318T183000Z
DESCRIPTION:Innenstadt\n\n1915 fand der internationalen Frauenfriedenskongr
	ess in Den Haag statt. Die\nmutigen Frauen\, die dazu aufriefen lernen Sie
	 in dieser szenischen Lesung mit\nMusik kennen.\n\n18 bis 19:30 Uhr\n\nKos
	tenlos
URL:https://event.cologne/event/szenische-lesung-mit-musik-kommt-nach-den-h
	aag-wir-fordern-frieden-110-jahre-frauenkongress-und-heute
LOCATION:Historisches Archiv mit Rheinischem Bildarchiv - Eifelwall 5\, 506
	74 Köln
STATUS:CONFIRMED
CATEGORIES:Innenstadt,Konzert
X-ALT-DESC;FMTTYPE=text/html:<p><strong>Innenstadt</strong></p><p>1915 fand
	 der internationalen Frauenfriedenskongress in Den Haag statt. Die mutigen
	 Frauen, die dazu aufriefen lernen Sie in dieser szenischen Lesung mit Mus
	ik kennen.</p><p>18 bis 19:30 Uhr</p><p>Kostenlos</p>
BEGIN:VALARM
ACTION:DISPLAY
DESCRIPTION:Szenische Lesung mit Musik: Kommt nach Den Haag! Wir fordern Fr
	ieden! 110 Jahre Frauenkongress – und heute?
TRIGGER:-PT1H
END:VALARM
END:VEVENT
END:VCALENDAR
