BEGIN:VCALENDAR
VERSION:2.0
CALSCALE:GREGORIAN
PRODID:adamgibbons/ics
METHOD:PUBLISH
X-PUBLISHED-TTL:PT1H
BEGIN:VEVENT
UID:326@event.cologne
SUMMARY:Südliche Schmiedegasse in Köln-Weidenpesch
DTSTAMP:20260420T182338Z
DTSTART:20260212T180000Z
DTEND:20260317T210000Z
DESCRIPTION:Innenstadt\n\nInformieren Sie sich über die Planung und geben S
	ie eine Stellungnahme ab.\n\nMontag bis Donnerstag\, 9 Uhr bis 15 Uhr\, Fr
	eitag 9 Uhr bis 13 Uhr
URL:https://event.cologne/event/sudliche-schmiedegasse-in-koln-weidenpesch
LOCATION:Stadtplanungsamt – Öffentlichkeitsbeteiligung - Stadthaus Deutz\, 
	Riegel A\, Raum 09B44\, Willy-Brandt-Platz  2\, 5679 Köln
STATUS:CONFIRMED
CATEGORIES:Innenstadt
X-ALT-DESC;FMTTYPE=text/html:<p><strong>Innenstadt</strong></p><p>Informier
	en Sie sich über die Planung und geben Sie eine Stellungnahme ab.</p><p>Mo
	ntag bis Donnerstag, 9 Uhr bis 15 Uhr, Freitag 9 Uhr bis 13 Uhr</p>
BEGIN:VALARM
ACTION:DISPLAY
DESCRIPTION:Südliche Schmiedegasse in Köln-Weidenpesch
TRIGGER:-PT1H
END:VALARM
END:VEVENT
END:VCALENDAR
