BEGIN:VCALENDAR
VERSION:2.0
CALSCALE:GREGORIAN
PRODID:adamgibbons/ics
METHOD:PUBLISH
X-PUBLISHED-TTL:PT1H
BEGIN:VEVENT
UID:321@event.cologne
SUMMARY:Südliche Schmiedegasse in Köln-Weidenpesch\, 200. Änderung Flächenn
	utzungsplan
DTSTAMP:20260420T182401Z
DTSTART:20260212T180000Z
DTEND:20260316T210000Z
DESCRIPTION:Innenstadt\n\nInformieren Sie sich über die Planung und geben S
	ie eine Stellungnahme ab.\n\nMontag bis Donerstag\, 9 Uhr bis 15 Uhr\, Fre
	itag 9 Uhr bis 13 Uhr
URL:https://event.cologne/event/sudliche-schmiedegasse-in-koln-weidenpesch-
	200-anderung-flachennutzungsplan
LOCATION:Stadtplanungsamt – Öffentlichkeitsbeteiligung - Stadthaus Deutz\, 
	Riegel A\, Raum 09B44\, Willy-Brandt-Platz  2\, 5679 Köln
STATUS:CONFIRMED
CATEGORIES:Innenstadt
X-ALT-DESC;FMTTYPE=text/html:<p><strong>Innenstadt</strong></p><p>Informier
	en Sie sich über die Planung und geben Sie eine Stellungnahme ab.</p><p>Mo
	ntag bis Donerstag, 9 Uhr bis 15 Uhr, Freitag 9 Uhr bis 13 Uhr</p>
BEGIN:VALARM
ACTION:DISPLAY
DESCRIPTION:Südliche Schmiedegasse in Köln-Weidenpesch, 200. Änderung Fläch
	ennutzungsplan
TRIGGER:-PT1H
END:VALARM
END:VEVENT
END:VCALENDAR
