BEGIN:VCALENDAR
VERSION:2.0
CALSCALE:GREGORIAN
PRODID:adamgibbons/ics
METHOD:PUBLISH
X-PUBLISHED-TTL:PT1H
BEGIN:VEVENT
UID:47@event.cologne
SUMMARY:Subway To Sally – Nackt III – Lügen & Legenden
DTSTAMP:20260420T182404Z
DTSTART:20260507T180000Z
DTEND:20260507T180000Z
DESCRIPTION:Bestuhlt
URL:https://event.cologne/event/subway-to-sally-nackt-iii-lugen-and-legende
	n
GEO:50.9459;6.97042
LOCATION:Tanzbrunnen - Rheinparkweg 1\, 50679 Köln
STATUS:CONFIRMED
CATEGORIES:
X-ALT-DESC;FMTTYPE=text/html:<p>Bestuhlt</p>
BEGIN:VALARM
ACTION:DISPLAY
DESCRIPTION:Subway To Sally – Nackt III – Lügen & Legenden
TRIGGER:-PT1H
END:VALARM
END:VEVENT
END:VCALENDAR
