BEGIN:VCALENDAR
VERSION:2.0
CALSCALE:GREGORIAN
PRODID:adamgibbons/ics
METHOD:PUBLISH
X-PUBLISHED-TTL:PT1H
BEGIN:VEVENT
UID:159@event.cologne
SUMMARY:Streetart in Ehrenfeld
DTSTAMP:20260420T181838Z
DTSTART:20260321T150000Z
DTEND:20260321T171500Z
DESCRIPTION:Ehrenfeld\n\nDiese Exkursion führt durch den Kölner Stadtteil E
	hrenfeld und zeigt\nverschiedene künstlerische Werke im Stadtbild.\n\n16 b
	is 18:15 Uhr\n\n12 Euro
URL:https://event.cologne/event/streetart-in-ehrenfeld
LOCATION:Treffpunkt: Körnerstraße 77 bis 79\, 50823 Köln - Körnerstraße 77-
	79\, 50823 Köln
STATUS:CONFIRMED
CATEGORIES:Ehrenfeld,Führung
X-ALT-DESC;FMTTYPE=text/html:<p><strong>Ehrenfeld</strong></p><p>Diese Exku
	rsion führt durch den Kölner Stadtteil Ehrenfeld und zeigt verschiedene kü
	nstlerische Werke im Stadtbild.</p><p>16 bis 18:15 Uhr</p><p>12 Euro</p>
BEGIN:VALARM
ACTION:DISPLAY
DESCRIPTION:Streetart in Ehrenfeld
TRIGGER:-PT1H
END:VALARM
END:VEVENT
END:VCALENDAR
