BEGIN:VCALENDAR
VERSION:2.0
CALSCALE:GREGORIAN
PRODID:adamgibbons/ics
METHOD:PUBLISH
X-PUBLISHED-TTL:PT1H
BEGIN:VEVENT
UID:738@event.cologne
SUMMARY:Stippefott-Party
DTSTAMP:20260422T100917Z
DTSTART:20270116T180000Z
DTEND:20270116T180000Z
URL:https://event.cologne/event/stippefott-party
GEO:50.9602;6.97071
LOCATION:Flora - Am Botanischen Garten 1a\, 50735 Köln
STATUS:CONFIRMED
CATEGORIES:
BEGIN:VALARM
ACTION:DISPLAY
DESCRIPTION:Stippefott-Party
TRIGGER:-PT1H
END:VALARM
END:VEVENT
END:VCALENDAR
