BEGIN:VCALENDAR
VERSION:2.0
CALSCALE:GREGORIAN
PRODID:adamgibbons/ics
METHOD:PUBLISH
X-PUBLISHED-TTL:PT1H
BEGIN:VEVENT
UID:81@event.cologne
SUMMARY:Stimmen im Kopf – Die Abgründe der menschlichen Psyche
DTSTAMP:20260420T182342Z
DTSTART:20261129T170000Z
DTEND:20261129T170000Z
DESCRIPTION:Bestuhlt
URL:https://event.cologne/event/stimmen-im-kopf-die-abgrunde-der-menschlich
	en-psyche
GEO:50.9459;6.97042
LOCATION:Tanzbrunnen - Rheinparkweg 1\, 50679 Köln
STATUS:CONFIRMED
CATEGORIES:
X-ALT-DESC;FMTTYPE=text/html:<p>Bestuhlt</p>
BEGIN:VALARM
ACTION:DISPLAY
DESCRIPTION:Stimmen im Kopf – Die Abgründe der menschlichen Psyche
TRIGGER:-PT1H
END:VALARM
END:VEVENT
END:VCALENDAR
