BEGIN:VCALENDAR
VERSION:2.0
CALSCALE:GREGORIAN
PRODID:adamgibbons/ics
METHOD:PUBLISH
X-PUBLISHED-TTL:PT1H
BEGIN:VEVENT
UID:93@event.cologne
SUMMARY:Steffen Henssler – Einmal alles\, bitte! – Live 2027
DTSTAMP:20260420T181803Z
DTSTART:20270422T170000Z
DTEND:20270422T170000Z
DESCRIPTION:Bestuhlt
URL:https://event.cologne/event/steffen-henssler-einmal-alles-bitte-live-20
	27
GEO:50.9459;6.97042
LOCATION:Tanzbrunnen - Rheinparkweg 1\, 50679 Köln
STATUS:CONFIRMED
CATEGORIES:
X-ALT-DESC;FMTTYPE=text/html:<p>Bestuhlt</p>
BEGIN:VALARM
ACTION:DISPLAY
DESCRIPTION:Steffen Henssler – Einmal alles, bitte! – Live 2027
TRIGGER:-PT1H
END:VALARM
END:VEVENT
END:VCALENDAR
