BEGIN:VCALENDAR
VERSION:2.0
CALSCALE:GREGORIAN
PRODID:adamgibbons/ics
METHOD:PUBLISH
X-PUBLISHED-TTL:PT1H
BEGIN:VEVENT
UID:71@event.cologne
SUMMARY:Stefanie Heinzmann
DTSTAMP:20260420T181549Z
DTSTART:20261029T180000Z
DTEND:20261029T180000Z
DESCRIPTION:CIRCLES TOUR 2026\nBestuhlt
URL:https://event.cologne/event/stefanie-heinzmann
GEO:50.9459;6.97042
LOCATION:Tanzbrunnen - Rheinparkweg 1\, 50679 Köln
STATUS:CONFIRMED
CATEGORIES:
X-ALT-DESC;FMTTYPE=text/html:<p>CIRCLES TOUR 2026<br>Bestuhlt</p>
BEGIN:VALARM
ACTION:DISPLAY
DESCRIPTION:Stefanie Heinzmann
TRIGGER:-PT1H
END:VALARM
END:VEVENT
END:VCALENDAR
