BEGIN:VCALENDAR
VERSION:2.0
CALSCALE:GREGORIAN
PRODID:adamgibbons/ics
METHOD:PUBLISH
X-PUBLISHED-TTL:PT1H
BEGIN:VEVENT
UID:176@event.cologne
SUMMARY:Spurensuche Oper: Le Nozze di Figaro
DTSTAMP:20260420T182058Z
DTSTART:20260328T090000Z
DTEND:20260328T113000Z
DESCRIPTION:Innenstadt\n\nWorkshop zu Wolfgang Amadeus Mozarts Werk mit ans
	chließendem Opernbesuch. Im\nRahmen unseres Kulturprogramms. Im Interim de
	r Zentralbibliothek und dem\nStaatenhaus der Oper.\n\n10 bis 12:30 Uhr: Wo
	rkshop in der Stadtbibliothek 19 Uhr: Opernbesuch im\nStaatenHaus\n\nDer E
	intritt kostet 31 Euro.
URL:https://event.cologne/event/spurensuche-oper-le-nozze-di-figaro
GEO:50.9371;6.95656
LOCATION:Interim Zentralbibliothek - Hohe Straße 68-82\, 50667 Köln
STATUS:CONFIRMED
CATEGORIES:Innenstadt,Konzert
X-ALT-DESC;FMTTYPE=text/html:<p><strong>Innenstadt</strong></p><p>Workshop 
	zu Wolfgang Amadeus Mozarts Werk mit anschließendem Opernbesuch. Im Rahmen
	 unseres Kulturprogramms. Im Interim der Zentralbibliothek und dem Staaten
	haus der Oper.</p><p>10 bis 12:30 Uhr: Workshop in der Stadtbibliothek 19 
	Uhr: Opernbesuch im StaatenHaus</p><p>Der Eintritt kostet 31 Euro.</p>
BEGIN:VALARM
ACTION:DISPLAY
DESCRIPTION:Spurensuche Oper: Le Nozze di Figaro
TRIGGER:-PT1H
END:VALARM
END:VEVENT
END:VCALENDAR
