BEGIN:VCALENDAR
VERSION:2.0
CALSCALE:GREGORIAN
PRODID:adamgibbons/ics
METHOD:PUBLISH
X-PUBLISHED-TTL:PT1H
BEGIN:VEVENT
UID:309@event.cologne
SUMMARY:Sprechstunde für die Facharbeit
DTSTAMP:20260420T182200Z
DTSTART:20260312T150000Z
DTEND:20260312T160000Z
DESCRIPTION:Innenstadt\, EintrittFrei\n\nIndividuelle Recherche-Tipps im In
	terim der Zentralbibliothek.\n\n16 bis 17 Uhr\n\nDie Teilnahme ist kostenl
	os.
URL:https://event.cologne/event/sprechstunde-fur-die-facharbeit
GEO:50.9371;6.95656
LOCATION:Interim Zentralbibliothek - Hohe Straße 68-82\, 50667 Köln
STATUS:CONFIRMED
CATEGORIES:EintrittFrei,Innenstadt
X-ALT-DESC;FMTTYPE=text/html:<p><strong>Innenstadt, EintrittFrei</strong></
	p><p>Individuelle Recherche-Tipps im Interim der Zentralbibliothek.</p><p>
	16 bis 17 Uhr</p><p>Die Teilnahme ist kostenlos.</p>
BEGIN:VALARM
ACTION:DISPLAY
DESCRIPTION:Sprechstunde für die Facharbeit
TRIGGER:-PT1H
END:VALARM
END:VEVENT
END:VCALENDAR
