BEGIN:VCALENDAR
VERSION:2.0
CALSCALE:GREGORIAN
PRODID:adamgibbons/ics
METHOD:PUBLISH
X-PUBLISHED-TTL:PT1H
BEGIN:VEVENT
UID:330@event.cologne
SUMMARY:Sprechstunde für die Facharbeit
DTSTAMP:20260420T182213Z
DTSTART:20260319T150000Z
DTEND:20260319T160000Z
DESCRIPTION:EintrittFrei\n\nIndividuelle Recherche-Tipps. Eine Online-Veran
	staltung der Stadtbibliothek\nKöln.\n\n16 bis 17 Uhr\n\nDie Teilnahme ist 
	kostenlos.
URL:https://event.cologne/event/sprechstunde-fur-die-facharbeit-2
LOCATION:Online-Veranstaltung - None None\, None None
STATUS:CONFIRMED
CATEGORIES:EintrittFrei
X-ALT-DESC;FMTTYPE=text/html:<p><strong>EintrittFrei</strong></p><p>Individ
	uelle Recherche-Tipps. Eine Online-Veranstaltung der Stadtbibliothek Köln.
	</p><p>16 bis 17 Uhr</p><p>Die Teilnahme ist kostenlos.</p>
BEGIN:VALARM
ACTION:DISPLAY
DESCRIPTION:Sprechstunde für die Facharbeit
TRIGGER:-PT1H
END:VALARM
END:VEVENT
END:VCALENDAR
