BEGIN:VCALENDAR
VERSION:2.0
CALSCALE:GREGORIAN
PRODID:adamgibbons/ics
METHOD:PUBLISH
X-PUBLISHED-TTL:PT1H
BEGIN:VEVENT
UID:151@event.cologne
SUMMARY:Spitzbergen – Natur und Forschung im Eismeer
DTSTAMP:20260420T182342Z
DTSTART:20260324T170000Z
DTEND:20260324T183000Z
DESCRIPTION:Innenstadt\n\nEin Vortrag über die beeindruckende Landschaft un
	d das Leben in der norwegischen\nInselgruppe Spitzbergen.\n\n18 bis 19:30 
	Uhr\n\n7 Euro
URL:https://event.cologne/event/spitzbergen-natur-und-forschung-im-eismeer
GEO:50.935;6.9499
LOCATION:VHS-Studienhaus am Neumarkt - Cäcilienstraße 35\, 50667 Köln
STATUS:CONFIRMED
CATEGORIES:Innenstadt,Vortrag
X-ALT-DESC;FMTTYPE=text/html:<p><strong>Innenstadt</strong></p><p>Ein Vortr
	ag über die beeindruckende Landschaft und das Leben in der norwegischen In
	selgruppe Spitzbergen.</p><p>18 bis 19:30 Uhr</p><p>7 Euro</p>
BEGIN:VALARM
ACTION:DISPLAY
DESCRIPTION:Spitzbergen – Natur und Forschung im Eismeer
TRIGGER:-PT1H
END:VALARM
END:VEVENT
END:VCALENDAR
