BEGIN:VCALENDAR
VERSION:2.0
CALSCALE:GREGORIAN
PRODID:adamgibbons/ics
METHOD:PUBLISH
X-PUBLISHED-TTL:PT1H
BEGIN:VEVENT
UID:790@event.cologne
SUMMARY:Spieletester*innen
DTSTAMP:20260425T103521Z
DTSTART:20260609T140000Z
DTEND:20260609T160000Z
DESCRIPTION:Jugendliche ab 12 Jahren haben die Möglichkeit aktuelle Spiele 
	auszuprobieren –\nin der Stadtteilbibliothek Kalk.\n\n16 bis 18 Uhr\n\nDie
	 Teilnahme ist kostenlos.
URL:https://event.cologne/event/spieletesterinnen-5
GEO:50.9394;7.00844
LOCATION:Stadtteilbibliothek Kalk - Kalker Hauptstraße 247-273\, 51103 Köln
STATUS:CONFIRMED
CATEGORIES:EintrittFrei,Kalk
X-ALT-DESC;FMTTYPE=text/html:<p>Jugendliche ab 12 Jahren haben die Möglichk
	eit aktuelle Spiele auszuprobieren – in der Stadtteilbibliothek Kalk.</p><
	p>16 bis 18 Uhr</p><p>Die Teilnahme ist kostenlos.</p>
BEGIN:VALARM
ACTION:DISPLAY
DESCRIPTION:Spieletester*innen
TRIGGER:-PT1H
END:VALARM
END:VEVENT
END:VCALENDAR
