BEGIN:VCALENDAR
VERSION:2.0
CALSCALE:GREGORIAN
PRODID:adamgibbons/ics
METHOD:PUBLISH
X-PUBLISHED-TTL:PT1H
BEGIN:VEVENT
UID:163@event.cologne
SUMMARY:Spielend neue Welten entdecken
DTSTAMP:20260420T181830Z
DTSTART:20260324T150000Z
DTEND:20260324T170000Z
DESCRIPTION:Rodenkirchen\, EintrittFrei\n\nErlebe virtuelle Realität – in d
	er Stadtteilbibliothek Rodenkirchen.\n\n16 bis 18 Uhr\n\nDie Teilnahme ist
	 kostenlos.
URL:https://event.cologne/event/spielend-neue-welten-entdecken
GEO:50.8894;6.99171
LOCATION:Stadtteilbibliothek Rodenkirchen - Schillingsrotter Straße 38\, 50
	996 Köln
STATUS:CONFIRMED
CATEGORIES:EintrittFrei,Rodenkirchen
X-ALT-DESC;FMTTYPE=text/html:<p><strong>Rodenkirchen, EintrittFrei</strong>
	</p><p>Erlebe virtuelle Realität – in der Stadtteilbibliothek Rodenkirchen
	.</p><p>16 bis 18 Uhr</p><p>Die Teilnahme ist kostenlos.</p>
BEGIN:VALARM
ACTION:DISPLAY
DESCRIPTION:Spielend neue Welten entdecken
TRIGGER:-PT1H
END:VALARM
END:VEVENT
END:VCALENDAR
