BEGIN:VCALENDAR
VERSION:2.0
CALSCALE:GREGORIAN
PRODID:adamgibbons/ics
METHOD:PUBLISH
X-PUBLISHED-TTL:PT1H
BEGIN:VEVENT
UID:53@event.cologne
SUMMARY:Sooshi Mango – The Home Made World Tour
DTSTAMP:20260420T181903Z
DTSTART:20260526T163000Z
DTEND:20260526T163000Z
URL:https://event.cologne/event/sooshi-mango-the-home-made-world-tour
GEO:50.9459;6.97042
LOCATION:Tanzbrunnen - Rheinparkweg 1\, 50679 Köln
STATUS:CONFIRMED
CATEGORIES:
BEGIN:VALARM
ACTION:DISPLAY
DESCRIPTION:Sooshi Mango – The Home Made World Tour
TRIGGER:-PT1H
END:VALARM
END:VEVENT
END:VCALENDAR
