BEGIN:VCALENDAR
VERSION:2.0
CALSCALE:GREGORIAN
PRODID:adamgibbons/ics
METHOD:PUBLISH
X-PUBLISHED-TTL:PT1H
BEGIN:VEVENT
UID:689@event.cologne
SUMMARY:So klingt Köln – Matinee Konzert
DTSTAMP:20260420T181730Z
DTSTART:20260531T090000Z
DTEND:20260531T110000Z
DESCRIPTION:Nippes\n\nEin Konzert des Symphonischen Jugendblasorchesters de
	r Rheinischen Musikschule\nin Kooperation mit dem Gürzenich-Orchester Köln
	.\n\n11 bis 13 Uhr\n\n12 bis 24 Euro
URL:https://event.cologne/event/so-klingt-koln-matinee-konzert
LOCATION:Flora Köln - Am Botanischen Garten 1a\, 50735 Köln
STATUS:CONFIRMED
CATEGORIES:Konzert,Nippes
X-ALT-DESC;FMTTYPE=text/html:<p><strong>Nippes</strong></p><p>Ein Konzert d
	es Symphonischen Jugendblasorchesters der Rheinischen Musikschule in Koope
	ration mit dem Gürzenich-Orchester Köln.</p><p>11 bis 13 Uhr</p><p>12 bis 
	24 Euro</p>
BEGIN:VALARM
ACTION:DISPLAY
DESCRIPTION:So klingt Köln – Matinee Konzert
TRIGGER:-PT1H
END:VALARM
END:VEVENT
END:VCALENDAR
