BEGIN:VCALENDAR
VERSION:2.0
CALSCALE:GREGORIAN
PRODID:adamgibbons/ics
METHOD:PUBLISH
X-PUBLISHED-TTL:PT1H
BEGIN:VEVENT
UID:751@event.cologne
SUMMARY:Smartphone\, Computer\, Internet – wir begleiten Sie ins digitale L
	eben
DTSTAMP:20260422T101409Z
DTSTART:20260605T093000Z
DTEND:20260605T103000Z
DESCRIPTION:Offene Sprechstunde zu digitalen Themen. Im Rahmen der Reihe Di
	gitale Werkstatt\nin der Stadtteilbibliothek Ehrenfeld.\n\n11:30 bis 12:30
	 Uhr\n\nDie Teilnahme ist kostenlos.
URL:https://event.cologne/event/smartphone-computer-internet-wir-begleiten-
	sie-ins-digitale-leben-2
GEO:50.9539;6.91917
LOCATION:Stadtteilbibliothek Ehrenfeld - Subbelrather Straße 247-249\, 5082
	5 Köln
STATUS:CONFIRMED
CATEGORIES:Ehrenfeld,EintrittFrei
X-ALT-DESC;FMTTYPE=text/html:<p>Offene Sprechstunde zu digitalen Themen. Im
	 Rahmen der Reihe Digitale Werkstatt in der Stadtteilbibliothek Ehrenfeld.
	</p><p>11:30 bis 12:30 Uhr</p><p>Die Teilnahme ist kostenlos.</p>
BEGIN:VALARM
ACTION:DISPLAY
DESCRIPTION:Smartphone, Computer, Internet – wir begleiten Sie ins digitale
	 Leben
TRIGGER:-PT1H
END:VALARM
END:VEVENT
END:VCALENDAR
