BEGIN:VCALENDAR
VERSION:2.0
CALSCALE:GREGORIAN
PRODID:adamgibbons/ics
METHOD:PUBLISH
X-PUBLISHED-TTL:PT1H
BEGIN:VEVENT
UID:72@event.cologne
SUMMARY:SEOM TOUR 2026 – ESSENZ
DTSTAMP:20260420T181731Z
DTSTART:20261101T170000Z
DTEND:20261101T170000Z
DESCRIPTION:Bestuhlt
URL:https://event.cologne/event/seom-tour-2026-essenz
GEO:50.9459;6.97042
LOCATION:Tanzbrunnen - Rheinparkweg 1\, 50679 Köln
STATUS:CONFIRMED
CATEGORIES:
X-ALT-DESC;FMTTYPE=text/html:<p>Bestuhlt</p>
BEGIN:VALARM
ACTION:DISPLAY
DESCRIPTION:SEOM TOUR 2026 – ESSENZ
TRIGGER:-PT1H
END:VALARM
END:VEVENT
END:VCALENDAR
