BEGIN:VCALENDAR
VERSION:2.0
CALSCALE:GREGORIAN
PRODID:adamgibbons/ics
METHOD:PUBLISH
X-PUBLISHED-TTL:PT1H
BEGIN:VEVENT
UID:243@event.cologne
SUMMARY:Sebastian Strombach: Jeck – Der Comic zum Kölner Dom
DTSTAMP:20260420T182329Z
DTSTART:20260421T170000Z
DTEND:20260421T200000Z
DESCRIPTION:Innenstadt\n\nDer Autor im Gespräch mit Andreas Platthaus. Im R
	ahmen unseres Kulturprogramms\nim Interim Zentralbibliothek.\n\n19 Uhr\n\n
	Der Eintritt ist frei.
URL:https://event.cologne/event/sebastian-strombach-jeck-der-comic-zum-koln
	er-dom
GEO:50.9371;6.95656
LOCATION:Interim Zentralbibliothek - Hohe Straße 68-82\, 50667 Köln
STATUS:CONFIRMED
CATEGORIES:Innenstadt,Lesung
X-ALT-DESC;FMTTYPE=text/html:<p><strong>Innenstadt</strong></p><p>Der Autor
	 im Gespräch mit Andreas Platthaus. Im Rahmen unseres Kulturprogramms im I
	nterim Zentralbibliothek.</p><p>19 Uhr</p><p>Der Eintritt ist frei.</p>
BEGIN:VALARM
ACTION:DISPLAY
DESCRIPTION:Sebastian Strombach: Jeck – Der Comic zum Kölner Dom
TRIGGER:-PT1H
END:VALARM
END:VEVENT
END:VCALENDAR
