BEGIN:VCALENDAR
VERSION:2.0
CALSCALE:GREGORIAN
PRODID:adamgibbons/ics
METHOD:PUBLISH
X-PUBLISHED-TTL:PT1H
BEGIN:VEVENT
UID:284@event.cologne
SUMMARY:Schneiden. Knoten. Staunen!
DTSTAMP:20260420T181727Z
DTSTART:20260409T123000Z
DTEND:20260409T143000Z
DESCRIPTION:Innenstadt\, EintrittFrei\n\nGestalte eine Schmuckkette aus dei
	nen alten T-Shirts. Im Rahmen unseres\nProgramms Maker Kids in den Osterfe
	rien im Interim Zentralbibliothek.\n\n14:30 bis 16:30 Uhr\n\nDie Teilnahme
	 ist kostenlos.
URL:https://event.cologne/event/schneiden-knoten-staunen
GEO:50.9371;6.95656
LOCATION:Interim Zentralbibliothek - Hohe Straße 68-82\, 50667 Köln
STATUS:CONFIRMED
CATEGORIES:EintrittFrei,Familie,Innenstadt
X-ALT-DESC;FMTTYPE=text/html:<p><strong>Innenstadt, EintrittFrei</strong></
	p><p>Gestalte eine Schmuckkette aus deinen alten T-Shirts. Im Rahmen unser
	es Programms Maker Kids in den Osterferien im Interim Zentralbibliothek.</
	p><p>14:30 bis 16:30 Uhr</p><p>Die Teilnahme ist kostenlos.</p>
BEGIN:VALARM
ACTION:DISPLAY
DESCRIPTION:Schneiden. Knoten. Staunen!
TRIGGER:-PT1H
END:VALARM
END:VEVENT
END:VCALENDAR
