BEGIN:VCALENDAR
VERSION:2.0
CALSCALE:GREGORIAN
PRODID:adamgibbons/ics
METHOD:PUBLISH
X-PUBLISHED-TTL:PT1H
BEGIN:VEVENT
UID:774@event.cologne
SUMMARY:Sapphic Spark - The Grand Closing Party
DTSTAMP:20260424T191411Z
DTSTART:20260516T150000Z
DTEND:20260516T210000Z
DESCRIPTION:Nach 35 großartigen Veranstaltungen voller Begegnungen\, Austau
	sch\, Kultur und\nCommunity möchten wir zum Abschluss der Kölner Lesbian V
	isibility Weeks 2026\nnoch einmal lesbisch-queere Sichtbarkeit\, Solidarit
	ät und Lebensfreude feiern.\n\n17 bis 23 Uhr\n\n11\,20 Euro\, ermäßigt 8\,
	02 Euro
URL:https://event.cologne/event/sapphic-spark-the-grand-closing-party
GEO:50.9686;6.94871
LOCATION:Bürgerzentrum Nippes (Standort Altenberger Hof) - Mauenheimer Stra
	ße 92\, 50733 Köln
STATUS:CONFIRMED
CATEGORIES:Konzert,Nippes
X-ALT-DESC;FMTTYPE=text/html:<p>Nach 35 großartigen Veranstaltungen voller 
	Begegnungen, Austausch, Kultur und Community möchten wir zum Abschluss der
	 Kölner Lesbian Visibility Weeks 2026 noch einmal lesbisch-queere Sichtbar
	keit, Solidarität und Lebensfreude feiern.</p><p>17 bis 23 Uhr</p><p>11,20
	 Euro, ermäßigt 8,02 Euro</p>
BEGIN:VALARM
ACTION:DISPLAY
DESCRIPTION:Sapphic Spark - The Grand Closing Party
TRIGGER:-PT1H
END:VALARM
END:VEVENT
END:VCALENDAR
