BEGIN:VCALENDAR
VERSION:2.0
CALSCALE:GREGORIAN
PRODID:adamgibbons/ics
METHOD:PUBLISH
X-PUBLISHED-TTL:PT1H
BEGIN:VEVENT
UID:281@event.cologne
SUMMARY:Sand\, Farbe\, Fantasie!
DTSTAMP:20260420T181703Z
DTSTART:20260408T130000Z
DTEND:20260408T143000Z
DESCRIPTION:Chorweiler\, EintrittFrei\n\nBunte Postkarten mit farbigem Sand
	 gestalten. Im Rahmen unseres Programms Maker\nKids in den Osterferien. In
	 der Stadtteilbibliothek Chorweiler.\n\n15 bis 16:30 Uhr\n\nDie Teilnahme 
	ist kostenlos.
URL:https://event.cologne/event/sand-farbe-fantasie
GEO:51.0226;6.89969
LOCATION:Stadtteilbibliothek Chorweiler - Pariser Platz 1\, 50765 Köln
STATUS:CONFIRMED
CATEGORIES:Chorweiler,EintrittFrei,Familie
X-ALT-DESC;FMTTYPE=text/html:<p><strong>Chorweiler, EintrittFrei</strong></
	p><p>Bunte Postkarten mit farbigem Sand gestalten. Im Rahmen unseres Progr
	amms Maker Kids in den Osterferien. In der Stadtteilbibliothek Chorweiler.
	</p><p>15 bis 16:30 Uhr</p><p>Die Teilnahme ist kostenlos.</p>
BEGIN:VALARM
ACTION:DISPLAY
DESCRIPTION:Sand, Farbe, Fantasie!
TRIGGER:-PT1H
END:VALARM
END:VEVENT
END:VCALENDAR
