BEGIN:VCALENDAR
VERSION:2.0
CALSCALE:GREGORIAN
PRODID:adamgibbons/ics
METHOD:PUBLISH
X-PUBLISHED-TTL:PT1H
BEGIN:VEVENT
UID:96@event.cologne
SUMMARY:SAISONERÖFFNUNG mit Cat Ballou
DTSTAMP:20260420T181709Z
DTSTART:20260509T153000Z
DTEND:20260509T153000Z
DESCRIPTION:Unbestuhlt
URL:https://event.cologne/event/saisoneroffnung-mit-cat-ballou
GEO:50.9459;6.97042
LOCATION:Tanzbrunnen - Rheinparkweg 1\, 50679 Köln
STATUS:CONFIRMED
CATEGORIES:
X-ALT-DESC;FMTTYPE=text/html:<p>Unbestuhlt</p>
BEGIN:VALARM
ACTION:DISPLAY
DESCRIPTION:SAISONERÖFFNUNG mit Cat Ballou
TRIGGER:-PT1H
END:VALARM
END:VEVENT
END:VCALENDAR
