BEGIN:VCALENDAR
VERSION:2.0
CALSCALE:GREGORIAN
PRODID:adamgibbons/ics
METHOD:PUBLISH
X-PUBLISHED-TTL:PT1H
BEGIN:VEVENT
UID:145@event.cologne
SUMMARY:Sach ma nix!
DTSTAMP:20260420T181541Z
DTSTART:20260310T230000Z
DTEND:20260310T230000Z
DESCRIPTION:Rodenkirchen\n\nBernhard Riedl liest aus Texten von Hanns Diete
	r Hüsch\, mit musikalischer\nBegleitung von Barbara Kozikowski. Eine Veran
	staltung des Fördervereins\nLiteramus e. V. in der Stadtteilbibliothek Rod
	enkirchen.\n\n19: 30 Uhr\n\nDer Eintritt kostet 15 Euro.
URL:https://event.cologne/event/sach-ma-nix
GEO:50.8894;6.99171
LOCATION:Stadtteilbibliothek Rodenkirchen - Schillingsrotter Straße 38\, 50
	996 Köln
STATUS:CONFIRMED
CATEGORIES:Kabarett,Rodenkirchen
X-ALT-DESC;FMTTYPE=text/html:<p><strong>Rodenkirchen</strong></p><p>Bernhar
	d Riedl liest aus Texten von Hanns Dieter Hüsch, mit musikalischer Begleit
	ung von Barbara Kozikowski. Eine Veranstaltung des Fördervereins Literamus
	 e. V. in der Stadtteilbibliothek Rodenkirchen.</p><p>19: 30 Uhr</p><p>Der
	 Eintritt kostet 15 Euro.</p>
BEGIN:VALARM
ACTION:DISPLAY
DESCRIPTION:Sach ma nix!
TRIGGER:-PT1H
END:VALARM
END:VEVENT
END:VCALENDAR
