BEGIN:VCALENDAR
VERSION:2.0
CALSCALE:GREGORIAN
PRODID:adamgibbons/ics
METHOD:PUBLISH
X-PUBLISHED-TTL:PT1H
BEGIN:VEVENT
UID:130@event.cologne
SUMMARY:ROYAL WIESN – Zweiter Samstag\, Mittag
DTSTAMP:20260420T182208Z
DTSTART:20261017T100000Z
DTEND:20261017T100000Z
DESCRIPTION:Das echt Bayerische Volksfest in Köln
URL:https://event.cologne/event/royal-wiesn-zweiter-samstag-mittag
GEO:50.9459;6.97042
LOCATION:Tanzbrunnen - Rheinparkweg 1\, 50679 Köln
STATUS:CONFIRMED
CATEGORIES:
X-ALT-DESC;FMTTYPE=text/html:<p>Das echt Bayerische Volksfest in Köln</p>
BEGIN:VALARM
ACTION:DISPLAY
DESCRIPTION:ROYAL WIESN – Zweiter Samstag, Mittag
TRIGGER:-PT1H
END:VALARM
END:VEVENT
END:VCALENDAR
