BEGIN:VCALENDAR
VERSION:2.0
CALSCALE:GREGORIAN
PRODID:adamgibbons/ics
METHOD:PUBLISH
X-PUBLISHED-TTL:PT1H
BEGIN:VEVENT
UID:252@event.cologne
SUMMARY:Rodenkirchen erinnert sich (62)
DTSTAMP:20260420T181712Z
DTSTART:20260325T173000Z
DTEND:20260325T210000Z
DESCRIPTION:Rodenkirchen\n\nErnst Finken: Vom Volksgarten zur Gartenstadt. 
	Geschichtswerkstatt mit Dr.\nCornelius Steckner in der Stadtteilbibliothek
	 Rodenkirchen\n\n18:30 Uhr\n\nDer Eintritt ist frei.
URL:https://event.cologne/event/rodenkirchen-erinnert-sich-62
GEO:50.8894;6.99171
LOCATION:Stadtteilbibliothek Rodenkirchen - Schillingsrotter Straße 38\, 50
	996 Köln
STATUS:CONFIRMED
CATEGORIES:Rodenkirchen,Vortrag
X-ALT-DESC;FMTTYPE=text/html:<p><strong>Rodenkirchen</strong></p><p>Ernst F
	inken: Vom Volksgarten zur Gartenstadt. Geschichtswerkstatt mit Dr. Cornel
	ius Steckner in der Stadtteilbibliothek Rodenkirchen</p><p>18:30 Uhr</p><p
	>Der Eintritt ist frei.</p>
BEGIN:VALARM
ACTION:DISPLAY
DESCRIPTION:Rodenkirchen erinnert sich (62)
TRIGGER:-PT1H
END:VALARM
END:VEVENT
END:VCALENDAR
