BEGIN:VCALENDAR
VERSION:2.0
CALSCALE:GREGORIAN
PRODID:adamgibbons/ics
METHOD:PUBLISH
X-PUBLISHED-TTL:PT1H
BEGIN:VEVENT
UID:70@event.cologne
SUMMARY:Robert Marc Lehmann: Mission Erde Live – Die Welt ist es wert\, um 
	sie zu kämpfen
DTSTAMP:20260420T182358Z
DTSTART:20261028T180000Z
DTEND:20261028T180000Z
DESCRIPTION:Bestuhlt
URL:https://event.cologne/event/robert-marc-lehmann-mission-erde-live-die-w
	elt-ist-es-wert-um-sie-zu-kampfen
GEO:50.9459;6.97042
LOCATION:Tanzbrunnen - Rheinparkweg 1\, 50679 Köln
STATUS:CONFIRMED
CATEGORIES:
X-ALT-DESC;FMTTYPE=text/html:<p>Bestuhlt</p>
BEGIN:VALARM
ACTION:DISPLAY
DESCRIPTION:Robert Marc Lehmann: Mission Erde Live – Die Welt ist es wert, 
	um sie zu kämpfen
TRIGGER:-PT1H
END:VALARM
END:VEVENT
END:VCALENDAR
