BEGIN:VCALENDAR
VERSION:2.0
CALSCALE:GREGORIAN
PRODID:adamgibbons/ics
METHOD:PUBLISH
X-PUBLISHED-TTL:PT1H
BEGIN:VEVENT
UID:114@event.cologne
SUMMARY:Rick Astley – Summer Shows 2026
DTSTAMP:20260420T181800Z
DTSTART:20260804T160000Z
DTEND:20260804T160000Z
DESCRIPTION:Unbestuhlt
URL:https://event.cologne/event/rick-astley-summer-shows-2026
GEO:50.9459;6.97042
LOCATION:Tanzbrunnen - Rheinparkweg 1\, 50679 Köln
STATUS:CONFIRMED
CATEGORIES:
X-ALT-DESC;FMTTYPE=text/html:<p>Unbestuhlt</p>
BEGIN:VALARM
ACTION:DISPLAY
DESCRIPTION:Rick Astley – Summer Shows 2026
TRIGGER:-PT1H
END:VALARM
END:VEVENT
END:VCALENDAR
