BEGIN:VCALENDAR
VERSION:2.0
CALSCALE:GREGORIAN
PRODID:adamgibbons/ics
METHOD:PUBLISH
X-PUBLISHED-TTL:PT1H
BEGIN:VEVENT
UID:184@event.cologne
SUMMARY:Reingelegt und abgezockt!
DTSTAMP:20260420T181723Z
DTSTART:20260325T130000Z
DTEND:20260325T140000Z
DESCRIPTION:Innenstadt\n\nEin Theaterstück über die miesen Tricks an ältere
	n Menschen im Plenarsaal des\nOberlandesgerichts Köln\n\n14 bis 15 Uhr\n\n
	Die Teilnahme ist kostenfrei.
URL:https://event.cologne/event/reingelegt-und-abgezockt
GEO:50.9547;6.9624
LOCATION:Oberlandesgericht Köln – Plenarsaal - Reichenspergerplatz 1\, 5067
	0 Köln
STATUS:CONFIRMED
CATEGORIES:Innenstadt,Theater
X-ALT-DESC;FMTTYPE=text/html:<p><strong>Innenstadt</strong></p><p>Ein Theat
	erstück über die miesen Tricks an älteren Menschen im Plenarsaal des Oberl
	andesgerichts Köln</p><p>14 bis 15 Uhr</p><p>Die Teilnahme ist kostenfrei.
	</p>
BEGIN:VALARM
ACTION:DISPLAY
DESCRIPTION:Reingelegt und abgezockt!
TRIGGER:-PT1H
END:VALARM
END:VEVENT
END:VCALENDAR
