BEGIN:VCALENDAR
VERSION:2.0
CALSCALE:GREGORIAN
PRODID:adamgibbons/ics
METHOD:PUBLISH
X-PUBLISHED-TTL:PT1H
BEGIN:VEVENT
UID:398@event.cologne
SUMMARY:Ran an den Zauberwürfel!
DTSTAMP:20260420T181832Z
DTSTART:20260418T080000Z
DTEND:20260418T110000Z
DESCRIPTION:Innenstadt\, EintrittFrei\n\nDie Einstiegsmethode. Ein Makerspa
	ce-Workshop im Interim der Zentralbibliothek.\n\n10 bis 13 Uhr\n\nDie Teil
	nahme ist kostenlos.
URL:https://event.cologne/event/ran-an-den-zauberwurfel
GEO:50.9371;6.95656
LOCATION:Interim Zentralbibliothek - Hohe Straße 68-82\, 50667 Köln
STATUS:CONFIRMED
CATEGORIES:EintrittFrei,Innenstadt
X-ALT-DESC;FMTTYPE=text/html:<p><strong>Innenstadt, EintrittFrei</strong></
	p><p>Die Einstiegsmethode. Ein Makerspace-Workshop im Interim der Zentralb
	ibliothek.</p><p>10 bis 13 Uhr</p><p>Die Teilnahme ist kostenlos.</p>
BEGIN:VALARM
ACTION:DISPLAY
DESCRIPTION:Ran an den Zauberwürfel!
TRIGGER:-PT1H
END:VALARM
END:VEVENT
END:VCALENDAR
