BEGIN:VCALENDAR
VERSION:2.0
CALSCALE:GREGORIAN
PRODID:adamgibbons/ics
METHOD:PUBLISH
X-PUBLISHED-TTL:PT1H
BEGIN:VEVENT
UID:502@event.cologne
SUMMARY:Radführung durch den äußeren Wald- und Wiesengürtel\, Teil I rechts
	rheinisch
DTSTAMP:20260420T182358Z
DTSTART:20260509T100000Z
DTEND:20260509T140000Z
DESCRIPTION:Porz\, EintrittFrei\n\nRadführung mit der Schutzgemeinschaft De
	utscher Wald\n\n12 bis 16 Uhr\n\nDie Teilnahme ist kostenlos.
URL:https://event.cologne/event/radfuhrung-durch-den-ausseren-wald-und-wies
	engurtel-teil-i-rechtsrheinisch
LOCATION:Schutzgemeinschaft Deutscher Wald - Kreisverband Köln e. V. - Gut 
	Leidenhausen None\, 51147 Köln
STATUS:CONFIRMED
CATEGORIES:EintrittFrei,Porz
X-ALT-DESC;FMTTYPE=text/html:<p><strong>Porz, EintrittFrei</strong></p><p>R
	adführung mit der Schutzgemeinschaft Deutscher Wald</p><p>12 bis 16 Uhr</p
	><p>Die Teilnahme ist kostenlos.</p>
BEGIN:VALARM
ACTION:DISPLAY
DESCRIPTION:Radführung durch den äußeren Wald- und Wiesengürtel, Teil I rec
	htsrheinisch
TRIGGER:-PT1H
END:VALARM
END:VEVENT
END:VCALENDAR
