BEGIN:VCALENDAR
VERSION:2.0
CALSCALE:GREGORIAN
PRODID:adamgibbons/ics
METHOD:PUBLISH
X-PUBLISHED-TTL:PT1H
BEGIN:VEVENT
UID:42@event.cologne
SUMMARY:Qwert von Walter Moers – Zamonien in einer anderen Dimension – Read
	’n’Talk
DTSTAMP:20260420T182406Z
DTSTART:20260429T170000Z
DTEND:20260429T170000Z
DESCRIPTION:Bestuhlt
URL:https://event.cologne/event/qwert-von-walter-moers-zamonien-in-einer-an
	deren-dimension-readntalk
GEO:50.9459;6.97042
LOCATION:Tanzbrunnen - Rheinparkweg 1\, 50679 Köln
STATUS:CONFIRMED
CATEGORIES:
X-ALT-DESC;FMTTYPE=text/html:<p>Bestuhlt</p>
BEGIN:VALARM
ACTION:DISPLAY
DESCRIPTION:Qwert von Walter Moers – Zamonien in einer anderen Dimension – 
	Read’n’Talk
TRIGGER:-PT1H
END:VALARM
END:VEVENT
END:VCALENDAR
