BEGIN:VCALENDAR
VERSION:2.0
CALSCALE:GREGORIAN
PRODID:adamgibbons/ics
METHOD:PUBLISH
X-PUBLISHED-TTL:PT1H
BEGIN:VEVENT
UID:310@event.cologne
SUMMARY:Quiltingtreff
DTSTAMP:20260420T181530Z
DTSTART:20260312T150000Z
DTEND:20260312T170000Z
DESCRIPTION:Innenstadt\, EintrittFrei\n\nNähkunst mit der Hand – gemeinsam 
	Quilten in der Stadtteilbibliothek Haus\nBalchem.\n\n16 bis 18 Uhr\n\nDie 
	Teilnahme ist kostenlos.
URL:https://event.cologne/event/quiltingtreff
GEO:50.9226;6.95897
LOCATION:Stadtteilbibliothek Haus Balchem - Severinstraße 15\, 50678 Köln
STATUS:CONFIRMED
CATEGORIES:EintrittFrei,Innenstadt
X-ALT-DESC;FMTTYPE=text/html:<p><strong>Innenstadt, EintrittFrei</strong></
	p><p>Nähkunst mit der Hand – gemeinsam Quilten in der Stadtteilbibliothek 
	Haus Balchem.</p><p>16 bis 18 Uhr</p><p>Die Teilnahme ist kostenlos.</p>
BEGIN:VALARM
ACTION:DISPLAY
DESCRIPTION:Quiltingtreff
TRIGGER:-PT1H
END:VALARM
END:VEVENT
END:VCALENDAR
