BEGIN:VCALENDAR
VERSION:2.0
CALSCALE:GREGORIAN
PRODID:adamgibbons/ics
METHOD:PUBLISH
X-PUBLISHED-TTL:PT1H
BEGIN:VEVENT
UID:333@event.cologne
SUMMARY:Quer durch die KI
DTSTAMP:20260420T181549Z
DTSTART:20260319T153000Z
DTEND:20260319T173000Z
DESCRIPTION:Ehrenfeld\, EintrittFrei\n\nPraktischer Workshop für den kreati
	ven Einstieg in die Künstliche Intelligenz.\nIm Rahmen der Reihe Digitale 
	Werkstatt in der Stadtteilbibliothek Ehrenfeld.\n\n16:30 bis 18:30 Uhr\n\n
	Die Teilnahme ist kostenlos.
URL:https://event.cologne/event/quer-durch-die-ki
GEO:50.9539;6.91917
LOCATION:Stadtteilbibliothek Ehrenfeld - Subbelrather Straße 247-249\, 5082
	5 Köln
STATUS:CONFIRMED
CATEGORIES:Ehrenfeld,EintrittFrei
X-ALT-DESC;FMTTYPE=text/html:<p><strong>Ehrenfeld, EintrittFrei</strong></p
	><p>Praktischer Workshop für den kreativen Einstieg in die Künstliche Inte
	lligenz. Im Rahmen der Reihe Digitale Werkstatt in der Stadtteilbibliothek
	 Ehrenfeld.</p><p>16:30 bis 18:30 Uhr</p><p>Die Teilnahme ist kostenlos.</
	p>
BEGIN:VALARM
ACTION:DISPLAY
DESCRIPTION:Quer durch die KI
TRIGGER:-PT1H
END:VALARM
END:VEVENT
END:VCALENDAR
