BEGIN:VCALENDAR
VERSION:2.0
CALSCALE:GREGORIAN
PRODID:adamgibbons/ics
METHOD:PUBLISH
X-PUBLISHED-TTL:PT1H
BEGIN:VEVENT
UID:267@event.cologne
SUMMARY:Programmiere den NAO-Roboter
DTSTAMP:20260420T181546Z
DTSTART:20260328T090000Z
DTEND:20260328T130000Z
DESCRIPTION:Innenstadt\, EintrittFrei\n\nProgrammierung unseres humanoiden 
	Roboters. Im Rahmen unseres Programms Maker\nKids in den Osterferien. Im I
	nterim Zentralbibliothek.\n\n10 bis 14 Uhr\n\nDie Teilnahme ist kostenlos.
URL:https://event.cologne/event/programmiere-den-nao-roboter
GEO:50.9371;6.95656
LOCATION:Interim Zentralbibliothek - Hohe Straße 68-82\, 50667 Köln
STATUS:CONFIRMED
CATEGORIES:EintrittFrei,Familie,Innenstadt
X-ALT-DESC;FMTTYPE=text/html:<p><strong>Innenstadt, EintrittFrei</strong></
	p><p>Programmierung unseres humanoiden Roboters. Im Rahmen unseres Program
	ms Maker Kids in den Osterferien. Im Interim Zentralbibliothek.</p><p>10 b
	is 14 Uhr</p><p>Die Teilnahme ist kostenlos.</p>
BEGIN:VALARM
ACTION:DISPLAY
DESCRIPTION:Programmiere den NAO-Roboter
TRIGGER:-PT1H
END:VALARM
END:VEVENT
END:VCALENDAR
