BEGIN:VCALENDAR
VERSION:2.0
CALSCALE:GREGORIAN
PRODID:adamgibbons/ics
METHOD:PUBLISH
X-PUBLISHED-TTL:PT1H
BEGIN:VEVENT
UID:754@event.cologne
SUMMARY:Persönliche Hilfestellung für eMedien
DTSTAMP:20260422T101746Z
DTSTART:20260604T220000Z
DTEND:20260604T220000Z
DESCRIPTION:Spezifische Problemlösung für Onleihe und Libby (Overdrive). Im
	 Rahmen der Reihe\nDigitale Werkstatt in der Stadtteilbibliothek Chorweile
	r.\n\n4 Termine: 10 bis 10:30 Uhr 10:30 bis 11 Uhr 11 bis 11:30 Uhr 11:30 
	bis 12 Uhr\n\nDie Teilnahme ist kostenlos.
URL:https://event.cologne/event/personliche-hilfestellung-fur-emedien-9
GEO:51.0226;6.89969
LOCATION:Stadtteilbibliothek Chorweiler - Pariser Platz 1\, 50765 Köln
STATUS:CONFIRMED
CATEGORIES:Chorweiler,EintrittFrei
X-ALT-DESC;FMTTYPE=text/html:<p>Spezifische Problemlösung für Onleihe und L
	ibby (Overdrive). Im Rahmen der Reihe Digitale Werkstatt in der Stadtteilb
	ibliothek Chorweiler.</p><p>4 Termine: 10 bis 10:30 Uhr 10:30 bis 11 Uhr 1
	1 bis 11:30 Uhr 11:30 bis 12 Uhr</p><p>Die Teilnahme ist kostenlos.</p>
BEGIN:VALARM
ACTION:DISPLAY
DESCRIPTION:Persönliche Hilfestellung für eMedien
TRIGGER:-PT1H
END:VALARM
END:VEVENT
END:VCALENDAR
