BEGIN:VCALENDAR
VERSION:2.0
CALSCALE:GREGORIAN
PRODID:adamgibbons/ics
METHOD:PUBLISH
X-PUBLISHED-TTL:PT1H
BEGIN:VEVENT
UID:313@event.cologne
SUMMARY:Pen & Paper-Spieleabend
DTSTAMP:20260420T181722Z
DTSTART:20260312T163000Z
DTEND:20260312T183000Z
DESCRIPTION:Innenstadt\, EintrittFrei\n\nGemeinsam erleben und bestehen wir
	 Abenteuer – im Interim Zentralbibliothek.\n\n17:30 bis 19:30 Uhr\n\nDie T
	eilnahme ist kostenlos.
URL:https://event.cologne/event/pen-and-paper-spieleabend
GEO:50.9371;6.95656
LOCATION:Interim Zentralbibliothek - Hohe Straße 68-82\, 50667 Köln
STATUS:CONFIRMED
CATEGORIES:EintrittFrei,Innenstadt
X-ALT-DESC;FMTTYPE=text/html:<p><strong>Innenstadt, EintrittFrei</strong></
	p><p>Gemeinsam erleben und bestehen wir Abenteuer – im Interim Zentralbibl
	iothek.</p><p>17:30 bis 19:30 Uhr</p><p>Die Teilnahme ist kostenlos.</p>
BEGIN:VALARM
ACTION:DISPLAY
DESCRIPTION:Pen & Paper-Spieleabend
TRIGGER:-PT1H
END:VALARM
END:VEVENT
END:VCALENDAR
