BEGIN:VCALENDAR
VERSION:2.0
CALSCALE:GREGORIAN
PRODID:adamgibbons/ics
METHOD:PUBLISH
X-PUBLISHED-TTL:PT1H
BEGIN:VEVENT
UID:371@event.cologne
SUMMARY:Pen & Paper-Spieleabend
DTSTAMP:20260420T181908Z
DTSTART:20260409T150000Z
DTEND:20260409T163000Z
DESCRIPTION:Ehrenfeld\, EintrittFrei\n\nDie Würfel rollen für Kinder von 8 
	bis 12 Jahren in der Stadtteilbibliothek\nEhrenfeld!\n\n17 bis 18:30 Uhr\n
	\nDie Teilnahme ist kostenlos.
URL:https://event.cologne/event/pen-and-paper-spieleabend-1
GEO:50.9539;6.91917
LOCATION:Stadtteilbibliothek Ehrenfeld - Subbelrather Straße 247-249\, 5082
	5 Köln
STATUS:CONFIRMED
CATEGORIES:Ehrenfeld,EintrittFrei
X-ALT-DESC;FMTTYPE=text/html:<p><strong>Ehrenfeld, EintrittFrei</strong></p
	><p>Die Würfel rollen für Kinder von 8 bis 12 Jahren in der Stadtteilbibli
	othek Ehrenfeld!</p><p>17 bis 18:30 Uhr</p><p>Die Teilnahme ist kostenlos.
	</p>
BEGIN:VALARM
ACTION:DISPLAY
DESCRIPTION:Pen & Paper-Spieleabend
TRIGGER:-PT1H
END:VALARM
END:VEVENT
END:VCALENDAR
