BEGIN:VCALENDAR
VERSION:2.0
CALSCALE:GREGORIAN
PRODID:adamgibbons/ics
METHOD:PUBLISH
X-PUBLISHED-TTL:PT1H
BEGIN:VEVENT
UID:269@event.cologne
SUMMARY:Papierschöpfen mit der AWB Köln
DTSTAMP:20260420T181705Z
DTSTART:20260331T083000Z
DTEND:20260331T110000Z
DESCRIPTION:Innenstadt\, EintrittFrei\n\nAus Alt mach Neu! Im Rahmen unsere
	s Programms Maker Kids in den Osterferien. Im\nInterim Zentralbibliothek.\
	n\n10:30 bis 13 Uhr\n\nDie Teilnahme ist kostenlos.
URL:https://event.cologne/event/papierschopfen-mit-der-awb-koln
GEO:50.9371;6.95656
LOCATION:Interim Zentralbibliothek - Hohe Straße 68-82\, 50667 Köln
STATUS:CONFIRMED
CATEGORIES:EintrittFrei,Familie,Innenstadt
X-ALT-DESC;FMTTYPE=text/html:<p><strong>Innenstadt, EintrittFrei</strong></
	p><p>Aus Alt mach Neu! Im Rahmen unseres Programms Maker Kids in den Oster
	ferien. Im Interim Zentralbibliothek.</p><p>10:30 bis 13 Uhr</p><p>Die Tei
	lnahme ist kostenlos.</p>
BEGIN:VALARM
ACTION:DISPLAY
DESCRIPTION:Papierschöpfen mit der AWB Köln
TRIGGER:-PT1H
END:VALARM
END:VEVENT
END:VCALENDAR
