BEGIN:VCALENDAR
VERSION:2.0
CALSCALE:GREGORIAN
PRODID:adamgibbons/ics
METHOD:PUBLISH
X-PUBLISHED-TTL:PT1H
BEGIN:VEVENT
UID:92@event.cologne
SUMMARY:Pam Pengco
DTSTAMP:20260420T181546Z
DTSTART:20270416T170000Z
DTEND:20270416T170000Z
DESCRIPTION:Bestuhlt
URL:https://event.cologne/event/pam-pengco
GEO:50.9459;6.97042
LOCATION:Tanzbrunnen - Rheinparkweg 1\, 50679 Köln
STATUS:CONFIRMED
CATEGORIES:
X-ALT-DESC;FMTTYPE=text/html:<p>Bestuhlt</p>
BEGIN:VALARM
ACTION:DISPLAY
DESCRIPTION:Pam Pengco
TRIGGER:-PT1H
END:VALARM
END:VEVENT
END:VCALENDAR
