BEGIN:VCALENDAR
VERSION:2.0
CALSCALE:GREGORIAN
PRODID:adamgibbons/ics
METHOD:PUBLISH
X-PUBLISHED-TTL:PT1H
BEGIN:VEVENT
UID:125@event.cologne
SUMMARY:O´zapft is – ROYAL WIESN – Auftakt
DTSTAMP:20260420T182314Z
DTSTART:20261009T150000Z
DTEND:20261009T150000Z
DESCRIPTION:Das echt Bayerische Volksfest in Köln
URL:https://event.cologne/event/ozapft-is-royal-wiesn-auftakt
GEO:50.9459;6.97042
LOCATION:Tanzbrunnen - Rheinparkweg 1\, 50679 Köln
STATUS:CONFIRMED
CATEGORIES:
X-ALT-DESC;FMTTYPE=text/html:<p>Das echt Bayerische Volksfest in Köln</p>
BEGIN:VALARM
ACTION:DISPLAY
DESCRIPTION:O´zapft is – ROYAL WIESN – Auftakt
TRIGGER:-PT1H
END:VALARM
END:VEVENT
END:VCALENDAR
