BEGIN:VCALENDAR
VERSION:2.0
CALSCALE:GREGORIAN
PRODID:adamgibbons/ics
METHOD:PUBLISH
X-PUBLISHED-TTL:PT1H
BEGIN:VEVENT
UID:156@event.cologne
SUMMARY:Ostereier-Suche
DTSTAMP:20260420T181542Z
DTSTART:20260402T090000Z
DTEND:20260402T160000Z
DESCRIPTION:Porz\, EintrittFrei\n\nFinde die bunten Ostererier in der Stadt
	teilbibliothek Porz.\n\n11 bis 18 Uhr\n\nDie Teilnahme ist kostenlos.
URL:https://event.cologne/event/ostereier-suche
GEO:50.885;7.05522
LOCATION:Stadtteilbibliothek Porz - Alfred-Moritz-Platz 1\, 51143 Köln
STATUS:CONFIRMED
CATEGORIES:EintrittFrei,Familie,Porz
X-ALT-DESC;FMTTYPE=text/html:<p><strong>Porz, EintrittFrei</strong></p><p>F
	inde die bunten Ostererier in der Stadtteilbibliothek Porz.</p><p>11 bis 1
	8 Uhr</p><p>Die Teilnahme ist kostenlos.</p>
BEGIN:VALARM
ACTION:DISPLAY
DESCRIPTION:Ostereier-Suche
TRIGGER:-PT1H
END:VALARM
END:VEVENT
END:VCALENDAR
