BEGIN:VCALENDAR
VERSION:2.0
CALSCALE:GREGORIAN
PRODID:adamgibbons/ics
METHOD:PUBLISH
X-PUBLISHED-TTL:PT1H
BEGIN:VEVENT
UID:780@event.cologne
SUMMARY:Open Wide: Die les*quisite Scheren-Show!
DTSTAMP:20260424T191132Z
DTSTART:20260513T163000Z
DTEND:20260513T200000Z
DESCRIPTION:Mixed-Show aus Poetry-Slam\, Stand-up-Comedy\, Improvisation un
	d vielem mehr – und\ndas alles von lesbisch-queeren Artists der jüngeren G
	eneration!\n\n18:30 bis 24 Uhr\n\nDer Eintritt ist frei.
URL:https://event.cologne/event/open-wide-die-lesquisite-scheren-show
LOCATION:anyway-Köln - Kamekestraße 14\, 50672 Köln
STATUS:CONFIRMED
CATEGORIES:Kultur
X-ALT-DESC;FMTTYPE=text/html:<p>Mixed-Show aus Poetry-Slam, Stand-up-Comedy
	, Improvisation und vielem mehr – und das alles von lesbisch-queeren Artis
	ts der jüngeren Generation!</p><p>18:30 bis 24 Uhr</p><p>Der Eintritt ist 
	frei.</p>
BEGIN:VALARM
ACTION:DISPLAY
DESCRIPTION:Open Wide: Die les*quisite Scheren-Show!
TRIGGER:-PT1H
END:VALARM
END:VEVENT
END:VCALENDAR
