BEGIN:VCALENDAR
VERSION:2.0
CALSCALE:GREGORIAN
PRODID:adamgibbons/ics
METHOD:PUBLISH
X-PUBLISHED-TTL:PT1H
BEGIN:VEVENT
UID:755@event.cologne
SUMMARY:Onleihe Hilfestellung der Stadtbibliothek
DTSTAMP:20260422T101746Z
DTSTART:20260604T220000Z
DTEND:20260604T220000Z
DESCRIPTION:Persönliche Beratung zu Onleihe-Problemen. Im Rahmen der Reihe 
	Digitale\nWerkstatt in der Stadtteilbibliothek Porz.\n\nVier Termine: 10 b
	is 10:30 Uhr 10:30 bis 11 Uhr 11 bis 11:30 Uhr 11:30 bis 12\nUhr\n\nDie Te
	ilnahme ist kostenlos.
URL:https://event.cologne/event/onleihe-hilfestellung-der-stadtbibliothek-2
GEO:50.885;7.05522
LOCATION:Stadtteilbibliothek Porz - Alfred-Moritz-Platz 1\, 51143 Köln
STATUS:CONFIRMED
CATEGORIES:EintrittFrei,Porz
X-ALT-DESC;FMTTYPE=text/html:<p>Persönliche Beratung zu Onleihe-Problemen. 
	Im Rahmen der Reihe Digitale Werkstatt in der Stadtteilbibliothek Porz.</p
	><p>Vier Termine: 10 bis 10:30 Uhr 10:30 bis 11 Uhr 11 bis 11:30 Uhr 11:30
	 bis 12 Uhr</p><p>Die Teilnahme ist kostenlos.</p>
BEGIN:VALARM
ACTION:DISPLAY
DESCRIPTION:Onleihe Hilfestellung der Stadtbibliothek
TRIGGER:-PT1H
END:VALARM
END:VEVENT
END:VCALENDAR
